BEGIN:VCALENDAR
METHOD:PUBLISH
VERSION:2.0
CALSCALE:GREGORIAN
PRODID:-//NONSGML WPForms//NONSGML Sugar Calendar Feeds v3.10.0//EN
X-WR-CALNAME:Fuck Rope by Knotty Productions
X-WR-CALDESC:Sanctuary Club
X-WR-TIMEZONE:UTC
BEGIN:VTIMEZONE
TZID:UTC
BEGIN:STANDARD
TZOFFSETFROM:+0000
TZOFFSETTO:+0000
DTSTART:20251026T030000
TZNAME:UTC
END:STANDARD
END:VTIMEZONE
BEGIN:VTIMEZONE
TZID:UTC
BEGIN:STANDARD
TZOFFSETFROM:+0000
TZOFFSETTO:+0000
DTSTART:20251026T030000
TZNAME:UTC
END:STANDARD
END:VTIMEZONE
BEGIN:VEVENT
SUMMARY:Fuck Rope by Knotty Productions
DESCRIPTION:Presented by Mx Knotty\nFuck Rope Descriptions:\n\n\n 	\nDre
 ss Code:\n\n\n 	\nTight Comfortable\n\n 	\nNothing Flowy\n\n 	\nThis cla
 ss is designed to educate you on the art of utilizing rope bondage for t
 he purpose of revealing the body in a controlled manner. The primary emp
 hasis will be on mastering ties that gently restrain limbs\, creating a 
 unique interplay of form. Mx. Knotty\, our experienced instructor\, will
  share her repertoire of techniques for manipulating the body into posit
 ions that give her access to what she desires.&nbsp\;\n\n\n\n 	\nIs ther
 e anything the participants should bring with them?\n\n\n 	\n3-4 30ft Bu
 ndles of Rope (Jute\, Hemp\, Sinthetic\, Posh) (Cotton Rope and all stre
 tchy ropes are banned)\n\n 	\nSafety Sheers or Safety Hooks\n\n\n\n 	\nA
 re there any prerequisites to attending this workshop? Is it beginner fr
 iendly?\n\n\n 	\nNo Prerequisites\, Beginner Friendly\n\n 	\nFundamental
 s 1 Recommended
URL;VALUE=URI:https://sanctuary.bar/events/fuck-rope-by-knotty-productio
 ns/
UID:urn:uuid:d572a9e8-c166-417c-87f1-2e62b5ea21db
STATUS:CONFIRMED
ORGANIZER:
DTSTAMP:20260423T141639Z
DTSTART;TZID=UTC:20260426T150000
DTEND;TZID=UTC:20260426T170000
END:VEVENT
END:VCALENDAR