BEGIN:VCALENDAR
METHOD:PUBLISH
VERSION:2.0
CALSCALE:GREGORIAN
PRODID:-//NONSGML WPForms//NONSGML Sugar Calendar Feeds v3.10.0//EN
X-WR-CALNAME:Stretch and Surrender: A Beginners Guide to Fisting
X-WR-CALDESC:Sanctuary Club
X-WR-TIMEZONE:UTC
BEGIN:VTIMEZONE
TZID:UTC
BEGIN:STANDARD
TZOFFSETFROM:+0000
TZOFFSETTO:+0000
DTSTART:20251026T050000
TZNAME:UTC
END:STANDARD
END:VTIMEZONE
BEGIN:VTIMEZONE
TZID:UTC
BEGIN:STANDARD
TZOFFSETFROM:+0000
TZOFFSETTO:+0000
DTSTART:20251026T050000
TZNAME:UTC
END:STANDARD
END:VTIMEZONE
BEGIN:VEVENT
SUMMARY:Stretch and Surrender: A Beginners Guide to Fisting
DESCRIPTION:presented by Mx Knotty\n\nNOTE: We attended this class and i
 t was incredibly informative\, entertaining\, and educational. Two fists
  up!\n\n 	\nDress Code:\n\n\n 	\nAny\n\n\n\n 	Curious about vaginal fist
 ing but unsure where to begin? This beginner-level class is designed to 
 demystify the practice and offer clear\, practical guidance for those lo
 oking to explore deeper intimacy through full-hand penetration.\n\n 	\nW
 e’ll walk through anatomy\, negotiation\, prep\, safety\, technique\, 
 and aftercare—with a strong emphasis on consent\, trust\, and body awa
 reness. This class includes a live demo and optional hands-on practice i
 f you attend with a partner or bottom. Whether you’re brand new or loo
 king to deepen your existing practice\, you’ll leave with tools\, lang
 uage\, and confidence to explore this intense and connective experience 
 with care.\n\n\n\n 	\nIs there anything the participants should bring wi
 th them?\n\n\n 	\nNotebook\n\n 	\nPen/Pencil\n\n\n\n 	\nAre there any pr
 erequisites to attending this workshop? Is it beginner friendly?\n\n\n 	
 \nNo prerequisites\, Beginner Friendly
URL;VALUE=URI:https://sanctuary.bar/events/stretch-and-surrender-a-begin
 ners-guide-to-fisting/
UID:urn:uuid:6edcdc7a-97df-4101-8ae2-5059559ed793
STATUS:CONFIRMED
ORGANIZER:
DTSTAMP:20260424T141759Z
DTSTART;TZID=UTC:20260426T170000
DTEND;TZID=UTC:20260426T190000
END:VEVENT
END:VCALENDAR